BEGIN:VCALENDAR
VERSION:2.0
PRODID:-//Buffalo Place - ECPv6.15.20//NONSGML v1.0//EN
CALSCALE:GREGORIAN
METHOD:PUBLISH
X-WR-CALNAME:Buffalo Place
X-ORIGINAL-URL:https://news.buffaloplace.com
X-WR-CALDESC:Events for Buffalo Place
REFRESH-INTERVAL;VALUE=DURATION:PT1H
X-Robots-Tag:noindex
X-PUBLISHED-TTL:PT1H
BEGIN:VTIMEZONE
TZID:UTC
BEGIN:STANDARD
TZOFFSETFROM:+0000
TZOFFSETTO:+0000
TZNAME:UTC
DTSTART:20210101T000000
END:STANDARD
END:VTIMEZONE
BEGIN:VEVENT
DTSTART;TZID=UTC:20220311T180000
DTEND;TZID=UTC:20220311T180000
DTSTAMP:20260423T054738
CREATED:20220307T225621Z
LAST-MODIFIED:20220307T225621Z
UID:10936-1647021600-1647021600@news.buffaloplace.com
SUMMARY:Canetis
DESCRIPTION:Friday\, March 11th at 6pm\, join Buffalo Iron Works for Canetis “Chasing Moonlight” EP Release Show with Marquee Grand\, Cooler\, Grace Greenan\, and Pr0 Social. Tickets are $10 in advance and $15 the day of the show. For more information\, or to purchase tickets\, click here.
URL:https://news.buffaloplace.com/event/canetis/
LOCATION:Buffalo Iron Works\, 49 Illinois Street\, Buffalo\, NY\, 14203\, United States
ATTACH;FMTTYPE=image/jpeg:https://news.buffaloplace.com/wp-content/uploads/2022/03/Canetis.jpg
END:VEVENT
BEGIN:VEVENT
DTSTART;TZID=UTC:20220311T180000
DTEND;TZID=UTC:20220311T180000
DTSTAMP:20260423T054738
CREATED:20220307T234823Z
LAST-MODIFIED:20220307T234823Z
UID:10966-1647021600-1647021600@news.buffaloplace.com
SUMMARY:Deafheaven
DESCRIPTION:Friday\, March 11th at 6pm\, join Rec Room for Deafheaven with special guests\, Holy Fawn and Midwife. Tickets are $25 for this 16+ event. For more information\, or to purchase tickets\, click here.
URL:https://news.buffaloplace.com/event/deafheaven/
LOCATION:Rec Room\, 79 West Chippewa Street\, Buffalo\, NY\, 14202\, United States
ATTACH;FMTTYPE=image/jpeg:https://news.buffaloplace.com/wp-content/uploads/2022/03/download-2.jpg
END:VEVENT
BEGIN:VEVENT
DTSTART;TZID=UTC:20220311T190000
DTEND;TZID=UTC:20220311T190000
DTSTAMP:20260423T054738
CREATED:20220111T203651Z
LAST-MODIFIED:20220127T192714Z
UID:10469-1647025200-1647025200@news.buffaloplace.com
SUMMARY:Pastmasters
DESCRIPTION:POSTPONED – Tickets honored on new date of Friday\, March 11th \nFriday\, February 25th\, join the Tralf Music Hall for Pastmasters as they perform The Beatles’ classic album “Revolver\,” in its entirety. Doors will open at 7pm and admission is $19 in advance and $20 on the day of the show. For more information or to purchase tickets\, click here.
URL:https://news.buffaloplace.com/event/pastmasters/
LOCATION:Tralf Music Hall\, 622 Main Street\, Buffalo\, NY\, 14202\, United States
ATTACH;FMTTYPE=image/jpeg:https://news.buffaloplace.com/wp-content/uploads/2022/01/022522-pastmastersxx_orig.jpg
END:VEVENT
BEGIN:VEVENT
DTSTART;TZID=UTC:20220311T193000
DTEND;TZID=UTC:20220311T193000
DTSTAMP:20260423T054738
CREATED:20220308T014953Z
LAST-MODIFIED:20220308T014953Z
UID:10991-1647027000-1647027000@news.buffaloplace.com
SUMMARY:Alingon Mitra
DESCRIPTION:Friday\, March 11th\, join Helium Comedy Club for Alingon Mitra. He is well known as the fan favorite from NBC’s Last Comic Standing and has since gone on to be featured on late night shows and Comedy Central. Tickets start at $24 for this 18+ event. For more information\, or to purchase tickets\, click here.
URL:https://news.buffaloplace.com/event/alingon-mitra/
LOCATION:Helium Comedy Club\, 30 Mississippi Street\, Buffalo\, 14203\, United States
ATTACH;FMTTYPE=image/jpeg:https://news.buffaloplace.com/wp-content/uploads/2022/03/Alingon_Mitra_1.jpg
END:VEVENT
BEGIN:VEVENT
DTSTART;TZID=UTC:20220311T200000
DTEND;TZID=UTC:20220311T200000
DTSTAMP:20260423T054738
CREATED:20220307T231356Z
LAST-MODIFIED:20220307T231356Z
UID:10944-1647028800-1647028800@news.buffaloplace.com
SUMMARY:77 Stone
DESCRIPTION:Friday\, March 11th at 8pm\, join The 9th Ward at Babeville for 77 Stone. Tickets are $20 in advance and $22 the day of the show. Doors open at 7pm. For more information\, or to purchase tickets\, click here.
URL:https://news.buffaloplace.com/event/77-stone/
LOCATION:The 9th Ward at Babeville\, 341 Delaware Ave\, Buffalo\, NY\, 14202\, United States
ATTACH;FMTTYPE=image/jpeg:https://news.buffaloplace.com/wp-content/uploads/2022/03/77stone-624x936-1.jpg
END:VEVENT
END:VCALENDAR