BEGIN:VCALENDAR
VERSION:2.0
PRODID:-//Buffalo Place - ECPv6.15.20//NONSGML v1.0//EN
CALSCALE:GREGORIAN
METHOD:PUBLISH
X-WR-CALNAME:Buffalo Place
X-ORIGINAL-URL:https://news.buffaloplace.com
X-WR-CALDESC:Events for Buffalo Place
REFRESH-INTERVAL;VALUE=DURATION:PT1H
X-Robots-Tag:noindex
X-PUBLISHED-TTL:PT1H
BEGIN:VTIMEZONE
TZID:UTC
BEGIN:STANDARD
TZOFFSETFROM:+0000
TZOFFSETTO:+0000
TZNAME:UTC
DTSTART:20210101T000000
END:STANDARD
END:VTIMEZONE
BEGIN:VEVENT
DTSTART;TZID=UTC:20220313T190000
DTEND;TZID=UTC:20220313T190000
DTSTAMP:20260419T114208
CREATED:20220307T234327Z
LAST-MODIFIED:20220307T234327Z
UID:10963-1647198000-1647198000@news.buffaloplace.com
SUMMARY:Monolord
DESCRIPTION:Sunday\, March 13th at 7pm\, join Town Ballroom for Monolord. Tickets are $18 for this 12+ event. For more information\, or to purchase tickets\, click here.
URL:https://news.buffaloplace.com/event/monolord/
LOCATION:Town Ballroom\, 681 Main Street\, Buffalo\, NY\, 14203\, United States
ATTACH;FMTTYPE=image/jpeg:https://news.buffaloplace.com/wp-content/uploads/2022/03/Monolord_820.jpg
END:VEVENT
BEGIN:VEVENT
DTSTART;TZID=UTC:20220313T193000
DTEND;TZID=UTC:20220313T193000
DTSTAMP:20260419T114208
CREATED:20220308T002527Z
LAST-MODIFIED:20220308T002527Z
UID:10977-1647199800-1647199800@news.buffaloplace.com
SUMMARY:Manchester Orchestra
DESCRIPTION:Sunday\, March 13th at 7:30pm\, join Riverworks for Manchester Orchestra’s The Million Masks Of God Tour with special guests\, Foxing and Michigander. Tickets start at $30 and doors open at 6:30pm. For more information\, or to purchase tickets\, click here. \n 
URL:https://news.buffaloplace.com/event/manchester-orchestra/
LOCATION:Buffalo RiverWorks\, 359 Ganson Street\, Buffalo\, NY\, 14203\, United States
ATTACH;FMTTYPE=image/jpeg:https://news.buffaloplace.com/wp-content/uploads/2022/03/manchester.jpg
END:VEVENT
BEGIN:VEVENT
DTSTART;TZID=UTC:20220313T200000
DTEND;TZID=UTC:20220313T200000
DTSTAMP:20260419T114208
CREATED:20220307T230255Z
LAST-MODIFIED:20220307T230347Z
UID:10939-1647201600-1647201600@news.buffaloplace.com
SUMMARY:Sports
DESCRIPTION:Sunday\, March 13th at 8pm\, join Buffalo Iron Works for Sports’ Get A Good Look Tour with j ember. Tickets are $12 in advance and $15 the day of the show. Doors open at 7pm for this all ages event. For more information\, or to purchase tickets\, click here.
URL:https://news.buffaloplace.com/event/sports/
LOCATION:Buffalo Iron Works\, 49 Illinois Street\, Buffalo\, NY\, 14203\, United States
ATTACH;FMTTYPE=image/jpeg:https://news.buffaloplace.com/wp-content/uploads/2022/03/Sports-World-Tour.jpg
END:VEVENT
END:VCALENDAR