BEGIN:VCALENDAR
VERSION:2.0
PRODID:-//Buffalo Place - ECPv6.15.20//NONSGML v1.0//EN
CALSCALE:GREGORIAN
METHOD:PUBLISH
X-WR-CALNAME:Buffalo Place
X-ORIGINAL-URL:https://news.buffaloplace.com
X-WR-CALDESC:Events for Buffalo Place
REFRESH-INTERVAL;VALUE=DURATION:PT1H
X-Robots-Tag:noindex
X-PUBLISHED-TTL:PT1H
BEGIN:VTIMEZONE
TZID:UTC
BEGIN:STANDARD
TZOFFSETFROM:+0000
TZOFFSETTO:+0000
TZNAME:UTC
DTSTART:20220101T000000
END:STANDARD
END:VTIMEZONE
BEGIN:VEVENT
DTSTART;TZID=UTC:20231121T160000
DTEND;TZID=UTC:20231121T180000
DTSTAMP:20260421T045223
CREATED:20231116T200356Z
LAST-MODIFIED:20231116T201745Z
UID:17630-1700582400-1700589600@news.buffaloplace.com
SUMMARY:HAPPY HOUR. PUPPIES. TOY DRIVE.
DESCRIPTION:On Tuesday\, November 21st starting at 4pm\, Seneca One and Say Yes Buffalo are launching a brand new Happy Hour program inside the Seneca One Lobby Bar. Enjoy discounted beverages and a revamped food menu at the bar. Say Yes Buffalo will be there to collect toys and household items for their annual Adopt a Family Holiday Campaign. Donations are not mandatory\, but encouraged and much appreciated! Hounds & Hops will be there with the City of Buffalo Animal Shelter with adoptable dogs to meet. \nTo visit Seneca One’s event page\, click here.
URL:https://news.buffaloplace.com/event/happy-hour-puppies-toy-drive/
LOCATION:Seneca One\, One Seneca Drive\, Buffalo\, NY\, 14203\, United States
ATTACH;FMTTYPE=image/png:https://news.buffaloplace.com/wp-content/uploads/2023/11/happy-hour.png
END:VEVENT
END:VCALENDAR