BEGIN:VCALENDAR
VERSION:2.0
PRODID:-//Buffalo Place - ECPv6.15.20//NONSGML v1.0//EN
CALSCALE:GREGORIAN
METHOD:PUBLISH
X-ORIGINAL-URL:https://news.buffaloplace.com
X-WR-CALDESC:Events for Buffalo Place
REFRESH-INTERVAL;VALUE=DURATION:PT1H
X-Robots-Tag:noindex
X-PUBLISHED-TTL:PT1H
BEGIN:VTIMEZONE
TZID:America/New_York
BEGIN:DAYLIGHT
TZOFFSETFROM:-0500
TZOFFSETTO:-0400
TZNAME:EDT
DTSTART:20250309T070000
END:DAYLIGHT
BEGIN:STANDARD
TZOFFSETFROM:-0400
TZOFFSETTO:-0500
TZNAME:EST
DTSTART:20251102T060000
END:STANDARD
BEGIN:DAYLIGHT
TZOFFSETFROM:-0500
TZOFFSETTO:-0400
TZNAME:EDT
DTSTART:20260308T070000
END:DAYLIGHT
BEGIN:STANDARD
TZOFFSETFROM:-0400
TZOFFSETTO:-0500
TZNAME:EST
DTSTART:20261101T060000
END:STANDARD
BEGIN:DAYLIGHT
TZOFFSETFROM:-0500
TZOFFSETTO:-0400
TZNAME:EDT
DTSTART:20270314T070000
END:DAYLIGHT
BEGIN:STANDARD
TZOFFSETFROM:-0400
TZOFFSETTO:-0500
TZNAME:EST
DTSTART:20271107T060000
END:STANDARD
END:VTIMEZONE
BEGIN:VEVENT
DTSTART;TZID=America/New_York:20260401T200000
DTEND;TZID=America/New_York:20260401T200000
DTSTAMP:20260424T214410
CREATED:20260318T132746Z
LAST-MODIFIED:20260318T132746Z
UID:29831-1775073600-1775073600@news.buffaloplace.com
SUMMARY:Jarv & RDGLDGRN
DESCRIPTION:Brooklyn-based MC / Producer\, Jarv started making music in 2009 and put out his first official release “Jarvage Vol.1” in 2016. He has since released four full-length projects in his modern yet classic boom-bap style. He has garnered millions of streams and YouTube views and has toured with the likes of RA The Rugged Man\, Masta Ace\, Little Stranger\, Mr. Lif & Akrobatik\, Sadat X\, Spose\, The Palmer Squares and so on. \nDC-based alternative hip hop trio\, RDGLDGRN\, have continuously caught the attention of fans and tastemakers alike across a wide array of genres – all while pursuing a singular message of positivity in their music. Their dynamic live show\, ability to evolve artistically and highly unique style have led to collaborations with the likes of Dave Grohl\, Pharrell Williams and Method Man. It has also seen the band receive an invitation to perform on NPR’s Tiny Desk Concerts and a massive international following that led to sold out gigs all over the world – including a headlining spot at the Eir Mit Speck Festival in Germany this past summer\, which attracted over 5\,000 attendees. \nJarv amd RDGLDGRN are coming to Buffalo Iron Works on Wednesday\, April 1st! Click here to purchase tickets.
URL:https://news.buffaloplace.com/event/jarv-rdgldgrn/
LOCATION:Buffalo Iron Works\, 49 Illinois Street\, Buffalo\, NY\, 14203\, United States
ATTACH;FMTTYPE=image/jpeg:https://news.buffaloplace.com/wp-content/uploads/2026/03/Website-2026-04-01-01-e1773840462173.jpg
END:VEVENT
END:VCALENDAR