BEGIN:VCALENDAR
VERSION:2.0
PRODID:-//Buffalo Place - ECPv6.15.20//NONSGML v1.0//EN
CALSCALE:GREGORIAN
METHOD:PUBLISH
X-ORIGINAL-URL:https://news.buffaloplace.com
X-WR-CALDESC:Events for Buffalo Place
REFRESH-INTERVAL;VALUE=DURATION:PT1H
X-Robots-Tag:noindex
X-PUBLISHED-TTL:PT1H
BEGIN:VTIMEZONE
TZID:America/New_York
BEGIN:DAYLIGHT
TZOFFSETFROM:-0500
TZOFFSETTO:-0400
TZNAME:EDT
DTSTART:20250309T070000
END:DAYLIGHT
BEGIN:STANDARD
TZOFFSETFROM:-0400
TZOFFSETTO:-0500
TZNAME:EST
DTSTART:20251102T060000
END:STANDARD
BEGIN:DAYLIGHT
TZOFFSETFROM:-0500
TZOFFSETTO:-0400
TZNAME:EDT
DTSTART:20260308T070000
END:DAYLIGHT
BEGIN:STANDARD
TZOFFSETFROM:-0400
TZOFFSETTO:-0500
TZNAME:EST
DTSTART:20261101T060000
END:STANDARD
BEGIN:DAYLIGHT
TZOFFSETFROM:-0500
TZOFFSETTO:-0400
TZNAME:EDT
DTSTART:20270314T070000
END:DAYLIGHT
BEGIN:STANDARD
TZOFFSETFROM:-0400
TZOFFSETTO:-0500
TZNAME:EST
DTSTART:20271107T060000
END:STANDARD
END:VTIMEZONE
BEGIN:VEVENT
DTSTART;TZID=America/New_York:20260408T193000
DTEND;TZID=America/New_York:20260408T193000
DTSTAMP:20260424T182803
CREATED:20260320T160406Z
LAST-MODIFIED:20260320T160406Z
UID:29866-1775676600-1775676600@news.buffaloplace.com
SUMMARY:Things With Friends
DESCRIPTION:Things With Friends by Kristoffer Diaz is coming to Alleyway Theatre on Friday\, April 3rd through Saturday\, April 25th! \nAn unflinching portrayal of New York City’s potential end\, seen through the intimate lens of a dinner party. An acutely observed and darkly humorous exploration of privilege and impending chaos. \nClick here for full details.
URL:https://news.buffaloplace.com/event/things-with-friends-5/
LOCATION:Alleyway Theatre\, 1 Curtain Up Alley\, NY\, 14202\, United States
ATTACH;FMTTYPE=image/jpeg:https://news.buffaloplace.com/wp-content/uploads/2026/03/6986744c10a5984bd6cd28ec_posterbg2-p-2000-scaled-e1773863029140.jpg
END:VEVENT
BEGIN:VEVENT
DTSTART;TZID=America/New_York:20260408T193000
DTEND;TZID=America/New_York:20260408T193000
DTSTAMP:20260424T182803
CREATED:20260330T164556Z
LAST-MODIFIED:20260330T164556Z
UID:30123-1775676600-1775676600@news.buffaloplace.com
SUMMARY:Bach & Brews: Brandenburg 1 & 5
DESCRIPTION:On Wednesday\, April 8th\, experience a fun evening of music\, friends\, and drinks with the Buffalo Chamber Players\, featuring Johann Sebastian Bach’s Brandenburg Concertos No. 1 and No. 5 at The 9th Ward at Babeville! \nBach & Brews concerts are inspired by gatherings organized by Bach at Café Zimmermann\, a bustling cultural establishment in 18th century Leipzig where Bach premiered many of his secular works. Join for drinks and camaraderie while experiencing performances by our region’s finest musicians. \nClick here for more information.
URL:https://news.buffaloplace.com/event/bach-brews-brandenburg-1-5/
LOCATION:The 9th Ward at Babeville\, 341 Delaware Ave\, Buffalo\, NY\, 14202\, United States
ATTACH;FMTTYPE=image/jpeg:https://news.buffaloplace.com/wp-content/uploads/2026/03/de0404e9-1ac1-4ba4-ac09-0893fa6c41e9-e1774889147597.jpg
END:VEVENT
BEGIN:VEVENT
DTSTART;TZID=America/New_York:20260408T200000
DTEND;TZID=America/New_York:20260408T200000
DTSTAMP:20260424T182803
CREATED:20260326T144024Z
LAST-MODIFIED:20260326T144024Z
UID:30074-1775678400-1775678400@news.buffaloplace.com
SUMMARY:Wayne Hancock w/ Nicky Diamonds
DESCRIPTION:Wayne Hancock performs live at Buffalo Iron Works on Wednesday\, April 8th with Nicky Diamonds! \nClick here to purchase tickets.
URL:https://news.buffaloplace.com/event/wayne-hancock-w-nicky-diamonds/
LOCATION:Buffalo Iron Works\, 49 Illinois Street\, Buffalo\, NY\, 14203\, United States
ATTACH;FMTTYPE=image/jpeg:https://news.buffaloplace.com/wp-content/uploads/2026/03/Website-2026-04-08-01-e1774536012561.jpg
END:VEVENT
END:VCALENDAR