BEGIN:VCALENDAR
VERSION:2.0
PRODID:-//Buffalo Place - ECPv6.15.20//NONSGML v1.0//EN
CALSCALE:GREGORIAN
METHOD:PUBLISH
X-WR-CALNAME:Buffalo Place
X-ORIGINAL-URL:https://news.buffaloplace.com
X-WR-CALDESC:Events for Buffalo Place
REFRESH-INTERVAL;VALUE=DURATION:PT1H
X-Robots-Tag:noindex
X-PUBLISHED-TTL:PT1H
BEGIN:VTIMEZONE
TZID:America/New_York
BEGIN:DAYLIGHT
TZOFFSETFROM:-0500
TZOFFSETTO:-0400
TZNAME:EDT
DTSTART:20250309T070000
END:DAYLIGHT
BEGIN:STANDARD
TZOFFSETFROM:-0400
TZOFFSETTO:-0500
TZNAME:EST
DTSTART:20251102T060000
END:STANDARD
BEGIN:DAYLIGHT
TZOFFSETFROM:-0500
TZOFFSETTO:-0400
TZNAME:EDT
DTSTART:20260308T070000
END:DAYLIGHT
BEGIN:STANDARD
TZOFFSETFROM:-0400
TZOFFSETTO:-0500
TZNAME:EST
DTSTART:20261101T060000
END:STANDARD
BEGIN:DAYLIGHT
TZOFFSETFROM:-0500
TZOFFSETTO:-0400
TZNAME:EDT
DTSTART:20270314T070000
END:DAYLIGHT
BEGIN:STANDARD
TZOFFSETFROM:-0400
TZOFFSETTO:-0500
TZNAME:EST
DTSTART:20271107T060000
END:STANDARD
END:VTIMEZONE
BEGIN:VEVENT
DTSTART;TZID=America/New_York:20260413T170000
DTEND;TZID=America/New_York:20260413T170000
DTSTAMP:20260424T193357
CREATED:20260406T144236Z
LAST-MODIFIED:20260406T144236Z
UID:30218-1776099600-1776099600@news.buffaloplace.com
SUMMARY:2026 Bowman Cup
DESCRIPTION:The Scotty Bowman Showcase consists of three all-star hockey games between high school-aged players from the Buffalo and Rochester areas. The games take place at KeyBank Center on Monday\, April 13th! \nThe first game will begin at 5pm with high school juniors from the two cities facing off against one another for the Tim Horton Memorial Cup. The following game takes place at 7pm between high school seniors. The winner of the second game will be awarded the Scotty Bowman Cup. The third game will feature players who play prep school or junior hockey. The players will face off for the Rick Martin Memorial Cup at 9pm. \nClick here for full details.
URL:https://news.buffaloplace.com/event/2026-bowman-cup/
LOCATION:KeyBank Center\, 1 Seymour H Knox III Plaza\, Buffalo\, NY\, 14203\, United States
ATTACH;FMTTYPE=image/jpeg:https://news.buffaloplace.com/wp-content/uploads/2026/04/bb68a78d-d835-4ff9-92ee-5e6af1ce0e93_SMKT-4632_Bowman-Cup-2026_375x285-1.jpg
END:VEVENT
BEGIN:VEVENT
DTSTART;TZID=America/New_York:20260413T193000
DTEND;TZID=America/New_York:20260413T193000
DTSTAMP:20260424T193357
CREATED:20260320T160839Z
LAST-MODIFIED:20260320T160839Z
UID:29874-1776108600-1776108600@news.buffaloplace.com
SUMMARY:Things With Friends
DESCRIPTION:Things With Friends by Kristoffer Diaz is coming to Alleyway Theatre on Friday\, April 3rd through Saturday\, April 25th! \nAn unflinching portrayal of New York City’s potential end\, seen through the intimate lens of a dinner party. An acutely observed and darkly humorous exploration of privilege and impending chaos. \nClick here for full details.
URL:https://news.buffaloplace.com/event/things-with-friends-9/
LOCATION:Alleyway Theatre\, 1 Curtain Up Alley\, NY\, 14202\, United States
ATTACH;FMTTYPE=image/jpeg:https://news.buffaloplace.com/wp-content/uploads/2026/03/6986744c10a5984bd6cd28ec_posterbg2-p-2000-scaled-e1773863029140.jpg
END:VEVENT
END:VCALENDAR