BEGIN:VCALENDAR
VERSION:2.0
PRODID:-//Buffalo Place - ECPv6.15.20//NONSGML v1.0//EN
CALSCALE:GREGORIAN
METHOD:PUBLISH
X-WR-CALNAME:Buffalo Place
X-ORIGINAL-URL:https://news.buffaloplace.com
X-WR-CALDESC:Events for Buffalo Place
REFRESH-INTERVAL;VALUE=DURATION:PT1H
X-Robots-Tag:noindex
X-PUBLISHED-TTL:PT1H
BEGIN:VTIMEZONE
TZID:America/New_York
BEGIN:DAYLIGHT
TZOFFSETFROM:-0500
TZOFFSETTO:-0400
TZNAME:EDT
DTSTART:20250309T070000
END:DAYLIGHT
BEGIN:STANDARD
TZOFFSETFROM:-0400
TZOFFSETTO:-0500
TZNAME:EST
DTSTART:20251102T060000
END:STANDARD
BEGIN:DAYLIGHT
TZOFFSETFROM:-0500
TZOFFSETTO:-0400
TZNAME:EDT
DTSTART:20260308T070000
END:DAYLIGHT
BEGIN:STANDARD
TZOFFSETFROM:-0400
TZOFFSETTO:-0500
TZNAME:EST
DTSTART:20261101T060000
END:STANDARD
BEGIN:DAYLIGHT
TZOFFSETFROM:-0500
TZOFFSETTO:-0400
TZNAME:EDT
DTSTART:20270314T070000
END:DAYLIGHT
BEGIN:STANDARD
TZOFFSETFROM:-0400
TZOFFSETTO:-0500
TZNAME:EST
DTSTART:20271107T060000
END:STANDARD
END:VTIMEZONE
BEGIN:VEVENT
DTSTART;TZID=America/New_York:20260415T180000
DTEND;TZID=America/New_York:20260415T180000
DTSTAMP:20260424T183338
CREATED:20260320T184137Z
LAST-MODIFIED:20260320T184308Z
UID:29950-1776276000-1776276000@news.buffaloplace.com
SUMMARY:Microwave – ‘Much Love’ 10 Year Anniversary Tour
DESCRIPTION:Wednesday\, April 15th\, After Dark Presents Microwave “Much Love” 10 Year Anniversary Tour at Town Ballroom at 6pm. Special guests will be Anthony Green\, Hunny\, and Into It. Over It. Click here for tickets and details.
URL:https://news.buffaloplace.com/event/microwave-much-love-10-year-anniversary-tour/
ATTACH;FMTTYPE=image/jpeg:https://news.buffaloplace.com/wp-content/uploads/2026/03/Microwave-e1774032092175.jpg
END:VEVENT
BEGIN:VEVENT
DTSTART;TZID=America/New_York:20260415T190000
DTEND;TZID=America/New_York:20260415T190000
DTSTAMP:20260424T183338
CREATED:20260320T181707Z
LAST-MODIFIED:20260320T181707Z
UID:29932-1776279600-1776279600@news.buffaloplace.com
SUMMARY:Buffalo Sabres vs. Dallas Stars
DESCRIPTION:Wednesday\, April 15th the Buffalo Sabres take on the Dallas Stars at 7pm at KeyBank Center. Click here for tickets and details.
URL:https://news.buffaloplace.com/event/buffalo-sabres-vs-dallas-stars-5/
LOCATION:KeyBank Center\, 1 Seymour H Knox III Plaza\, Buffalo\, NY\, 14203\, United States
ATTACH;FMTTYPE=image/png:https://news.buffaloplace.com/wp-content/uploads/2024/11/sabres-e1730829680664.png
END:VEVENT
BEGIN:VEVENT
DTSTART;TZID=America/New_York:20260415T193000
DTEND;TZID=America/New_York:20260415T193000
DTSTAMP:20260424T183338
CREATED:20260331T184336Z
LAST-MODIFIED:20260331T184336Z
UID:30174-1776281400-1776281400@news.buffaloplace.com
SUMMARY:Chris Franjola
DESCRIPTION:Chris Franjola is a comedian and writer best known for his hit podcast Cover to Cover\, which has surpassed one million downloads and earned thousands of 5-star reviews. He was a longtime writer and standout performer on Chelsea Lately\, contributing to over 1\,500 episodes and creating many memorable characters\, and later starred in After Lately. Chris has also appeared on shows like Lights Out with David Spade and Punchline\, hosted Anarchy Afterword\, and released a successful comedy album\, The Shallow End. In addition to his TV work\, he continues to tour nationwide as a headlining stand-up comedian and has written for major programs including Family Guy and the MTV Video Music Awards. \nChris Franjola takes the Helium Comedy Club stage on Wednesday\, April 15th! Click here to purchase tickets.
URL:https://news.buffaloplace.com/event/chris-franjola-2/
LOCATION:Helium Comedy Club\, 30 Mississippi Street\, Buffalo\, 14203\, United States
ATTACH;FMTTYPE=image/png:https://news.buffaloplace.com/wp-content/uploads/2026/03/data-13.png
END:VEVENT
BEGIN:VEVENT
DTSTART;TZID=America/New_York:20260415T193000
DTEND;TZID=America/New_York:20260415T193000
DTSTAMP:20260424T183338
CREATED:20260331T194320Z
LAST-MODIFIED:20260331T194320Z
UID:30188-1776281400-1776281400@news.buffaloplace.com
SUMMARY:Water for Elephants
DESCRIPTION:Part of the Five Star Bank 2025-26 Broadway Season\, Water for Elephants is coming to Shea’s Buffalo Theatre for eight performances from Tuesday\, April 14th to Sunday\, April 19th. \nAfter losing what matters most\, a young man jumps a moving train unsure of where the road will take him and finds a new home with the remarkable crew of a traveling circus\, and a life – and love – beyond his wildest dreams. Seen through the eyes of his older self\, his adventure becomes a poignant reminder that if you choose the ride\, life can begin again at any age. \nClick here for full details.
URL:https://news.buffaloplace.com/event/water-for-elephants-2/
LOCATION:Shea’s Buffalo Theatre\, 646 Main Street\, Buffalo\, 14202\, United States
ATTACH;FMTTYPE=image/jpeg:https://news.buffaloplace.com/wp-content/uploads/2026/03/1600x700-1536x672-1-e1774985606894.jpg
END:VEVENT
BEGIN:VEVENT
DTSTART;TZID=America/New_York:20260415T200000
DTEND;TZID=America/New_York:20260415T200000
DTSTAMP:20260424T183338
CREATED:20260326T151142Z
LAST-MODIFIED:20260326T151142Z
UID:30089-1776283200-1776283200@news.buffaloplace.com
SUMMARY:The Music of Bob Dylan & The Band w/ Chest Fever & Tyler Bagwell
DESCRIPTION:Join Chest Fever and special guests Tyler Bagwell at Buffalo Iron Works on Wednesday\, April 15th for the music of Bob Dylan & The Band! \nClick here to purchase tickets.
URL:https://news.buffaloplace.com/event/the-music-of-bob-dylan-the-band-w-chest-fever-tyler-bagwell/
LOCATION:Buffalo Iron Works\, 49 Illinois Street\, Buffalo\, NY\, 14203\, United States
ATTACH;FMTTYPE=image/jpeg:https://news.buffaloplace.com/wp-content/uploads/2026/03/Website-2026-04-15-01-e1774537892628.jpg
END:VEVENT
BEGIN:VEVENT
DTSTART;TZID=America/New_York:20260415T200000
DTEND;TZID=America/New_York:20260415T200000
DTSTAMP:20260424T183338
CREATED:20260406T145625Z
LAST-MODIFIED:20260406T145625Z
UID:30224-1776283200-1776283200@news.buffaloplace.com
SUMMARY:Cole Chaney & The Local Honeys
DESCRIPTION:DSP Shows presents Cole Chaney and The Local Honeys at The 9th Ward at Babeville on Wednesday\, April 15th! \nWhen it comes to his latest album\, In the Shadow of the Mountain\, 25-year-old singer-songwriter Cole Chaney is pretty candid and blunt about who he is and what kind of music he wants to make\, the result of which\, this stunning offering from an artist wise beyond his age. Pointing to his lifelong admiration for 1990s rock – specifically Soundgarden\, Alice in Chains and Stone Temple Pilots –  as a vital influence on the sonic landscape of the album\, Chaney aimed to find a melodic balance between that raw and real rock sound and the bluegrass and folk music of his native Kentucky. \nThe Local Honeys blend traditional Kentucky music with modern soundscapes and original songwriting. Fuzzed out guitar and a vibey rhythm section set the sonic bedrock to showcase the entwinement of old-time banjo and fiddle styles at the forefront of their sound. The Honeys understand the complexities of contemporary Appalachian life and their music is reflective of such through raw and emotive songs. The narratives and perspective they weave into song\, the deep understanding and endearment they share for hillbilly music\, and their undeniable charm make it clear the duo is poised to become defining voices of a new Appalachia. \nClick here to purchase tickets.
URL:https://news.buffaloplace.com/event/cole-chaney-the-local-honeys/
LOCATION:The 9th Ward at Babeville\, 341 Delaware Ave\, Buffalo\, NY\, 14202\, United States
ATTACH;FMTTYPE=image/png:https://news.buffaloplace.com/wp-content/uploads/2026/04/IMG_0643-624x830-1.png
END:VEVENT
END:VCALENDAR