BEGIN:VCALENDAR
VERSION:2.0
PRODID:-//Buffalo Place - ECPv6.15.20//NONSGML v1.0//EN
CALSCALE:GREGORIAN
METHOD:PUBLISH
X-ORIGINAL-URL:https://news.buffaloplace.com
X-WR-CALDESC:Events for Buffalo Place
REFRESH-INTERVAL;VALUE=DURATION:PT1H
X-Robots-Tag:noindex
X-PUBLISHED-TTL:PT1H
BEGIN:VTIMEZONE
TZID:America/New_York
BEGIN:DAYLIGHT
TZOFFSETFROM:-0500
TZOFFSETTO:-0400
TZNAME:EDT
DTSTART:20250309T070000
END:DAYLIGHT
BEGIN:STANDARD
TZOFFSETFROM:-0400
TZOFFSETTO:-0500
TZNAME:EST
DTSTART:20251102T060000
END:STANDARD
BEGIN:DAYLIGHT
TZOFFSETFROM:-0500
TZOFFSETTO:-0400
TZNAME:EDT
DTSTART:20260308T070000
END:DAYLIGHT
BEGIN:STANDARD
TZOFFSETFROM:-0400
TZOFFSETTO:-0500
TZNAME:EST
DTSTART:20261101T060000
END:STANDARD
BEGIN:DAYLIGHT
TZOFFSETFROM:-0500
TZOFFSETTO:-0400
TZNAME:EDT
DTSTART:20270314T070000
END:DAYLIGHT
BEGIN:STANDARD
TZOFFSETFROM:-0400
TZOFFSETTO:-0500
TZNAME:EST
DTSTART:20271107T060000
END:STANDARD
END:VTIMEZONE
BEGIN:VEVENT
DTSTART;TZID=America/New_York:20260420T190000
DTEND;TZID=America/New_York:20260420T190000
DTSTAMP:20260424T194634
CREATED:20260406T160617Z
LAST-MODIFIED:20260406T161634Z
UID:30253-1776711600-1776711600@news.buffaloplace.com
SUMMARY:Second Gen Theatre Free Reading Series: Parker Pry: Private Eye
DESCRIPTION:Second Gen Theatre will present the next installment of their free reading series on Monday\, April 20th at 7pm at Shea’s Smith Theatre: Parker Pry: Private Eye! \nIn Big City\, no case is too little for Parker Pry\, the least famous detective in town. A send up of classic 1940’s film noir complete with false leads\, femme fatales\, and a cast of unforgettable characters\, Parker Pry is a brand new comedy by the authors of The Haunting of Hooverton Hotel\, Jacob Albarella and Jason Kaiser. Second Generation is honored to be presenting the world premier of Parker Pry: Private Eye. \nPre-registration is highly recommended. Learn more by clicking here. \nSecond Generation Theatre thanks Shea’s Buffalo Theatre\, Fillmore District Council Member Mitch Nowakowski\, The Shubert Foundation\, and Sue Burgstahler in Memory of Earl Kunz.
URL:https://news.buffaloplace.com/event/second-gen-theatre-free-reading-series-parker-pry-private-eye/
LOCATION:Shea’s Smith Theatre\, 658 Main Street\, Buffalo\, NY\, 14202\, United States
ATTACH;FMTTYPE=image/png:https://news.buffaloplace.com/wp-content/uploads/2026/04/ParkerPry-e1775491568721.png
END:VEVENT
END:VCALENDAR