BEGIN:VCALENDAR
VERSION:2.0
PRODID:-//Buffalo Place - ECPv6.15.20//NONSGML v1.0//EN
CALSCALE:GREGORIAN
METHOD:PUBLISH
X-ORIGINAL-URL:https://news.buffaloplace.com
X-WR-CALDESC:Events for Buffalo Place
REFRESH-INTERVAL;VALUE=DURATION:PT1H
X-Robots-Tag:noindex
X-PUBLISHED-TTL:PT1H
BEGIN:VTIMEZONE
TZID:America/New_York
BEGIN:DAYLIGHT
TZOFFSETFROM:-0500
TZOFFSETTO:-0400
TZNAME:EDT
DTSTART:20250309T070000
END:DAYLIGHT
BEGIN:STANDARD
TZOFFSETFROM:-0400
TZOFFSETTO:-0500
TZNAME:EST
DTSTART:20251102T060000
END:STANDARD
BEGIN:DAYLIGHT
TZOFFSETFROM:-0500
TZOFFSETTO:-0400
TZNAME:EDT
DTSTART:20260308T070000
END:DAYLIGHT
BEGIN:STANDARD
TZOFFSETFROM:-0400
TZOFFSETTO:-0500
TZNAME:EST
DTSTART:20261101T060000
END:STANDARD
BEGIN:DAYLIGHT
TZOFFSETFROM:-0500
TZOFFSETTO:-0400
TZNAME:EDT
DTSTART:20270314T070000
END:DAYLIGHT
BEGIN:STANDARD
TZOFFSETFROM:-0400
TZOFFSETTO:-0500
TZNAME:EST
DTSTART:20271107T060000
END:STANDARD
END:VTIMEZONE
BEGIN:VEVENT
DTSTART;TZID=America/New_York:20260423T190000
DTEND;TZID=America/New_York:20260423T190000
DTSTAMP:20260424T194943
CREATED:20260320T185543Z
LAST-MODIFIED:20260320T185617Z
UID:29963-1776970800-1776970800@news.buffaloplace.com
SUMMARY:Lloyd Cole
DESCRIPTION:Thursday\, April 23rd\, Funtime Presents Lloyd Cole at Town Balloom at 7pm. Click here for tickets and details.
URL:https://news.buffaloplace.com/event/lloyd-cole/
LOCATION:Town Ballroom\, 681 Main Street\, Buffalo\, NY\, 14203\, United States
ATTACH;FMTTYPE=image/jpeg:https://news.buffaloplace.com/wp-content/uploads/2026/03/LloydCole-e1774032924945.jpg
END:VEVENT
BEGIN:VEVENT
DTSTART;TZID=America/New_York:20260423T193000
DTEND;TZID=America/New_York:20260423T193000
DTSTAMP:20260424T194943
CREATED:20260320T161340Z
LAST-MODIFIED:20260320T161340Z
UID:29884-1776972600-1776972600@news.buffaloplace.com
SUMMARY:Things With Friends
DESCRIPTION:Things With Friends by Kristoffer Diaz is coming to Alleyway Theatre on Friday\, April 3rd through Saturday\, April 25th! \nAn unflinching portrayal of New York City’s potential end\, seen through the intimate lens of a dinner party. An acutely observed and darkly humorous exploration of privilege and impending chaos. \nClick here for full details.
URL:https://news.buffaloplace.com/event/things-with-friends-14/
LOCATION:Alleyway Theatre\, 1 Curtain Up Alley\, NY\, 14202\, United States
ATTACH;FMTTYPE=image/jpeg:https://news.buffaloplace.com/wp-content/uploads/2026/03/6986744c10a5984bd6cd28ec_posterbg2-p-2000-scaled-e1773863029140.jpg
END:VEVENT
BEGIN:VEVENT
DTSTART;TZID=America/New_York:20260423T193000
DTEND;TZID=America/New_York:20260423T193000
DTSTAMP:20260424T194943
CREATED:20260320T165426Z
LAST-MODIFIED:20260320T165426Z
UID:29917-1776972600-1776972600@news.buffaloplace.com
SUMMARY:Islander
DESCRIPTION:Irish Classical Theatre welcomes to their stage\, Islander\, from April 10th through April 26th! This spellbinding new folk-musical is about community and connection\, myth and reality for audiences young and old. There is a girl. She stares out to sea and dreams of a new life beyond her lonely island. Myth and reality collide when the tide washes a mysterious stranger onto her beach. Islander is a breathtaking\, folk-infused musical that transports audiences to a remote Scottish island where tradition and modernity collide. Featuring a stunning\, looping vocal score and performed entirely by two actors\, Islander weaves a mesmerizing tale of myth\, community\, and self-discovery. With its haunting melodies and immersive storytelling\, this critically acclaimed production is a must-see for lovers of innovative theater and enchanting folklore. Performances take place on Thursday and Friday at 7:30pm\, Saturday at 2pm and 7:30pm\, and Sunday at 2pm. Click here for tickets and details. \n\nConceived by Amy Draper\, Book by Stewart Melton\, Music & Lyrics by Finn Anderson\n \nAdditional Programming: \n\n\n\nOpen Rehearsal (for Subscribers Only): Wednesday\, April 1st at 6:30pm \nCommunity Matinee Preview ($12/Ticket): Thursday\, April 9th at 10am \nOpening Night Reception: Friday\, April 10th  at 7:30pm \nPay-What-You-Will Performances*:\nSaturday\, April 11th at 2pm and 7:30pm; Saturday\, April 18th at 7:30pm; Saturday\, April 25th at 7:30pm\n*Purchase in-person at the Box Office on the day of the performance. Seating subject to availability. \nSpeaker Series: Sunday\, April 12\, 2026 at 1:30 PM \nTalk Back Thursdays: Engage with the Creators! After every Thursday performance\, stay for a free Talk Back where members of the creative team discuss their roles and answer your questions about their creative journey.\nThursday\, April 16th at 7:30pm
URL:https://news.buffaloplace.com/event/islander-11/
LOCATION:Irish Classical Theatre Company\, 625 Main Street\, Buffalo\, NY\, 14203\, United States
ATTACH;FMTTYPE=image/jpeg:https://news.buffaloplace.com/wp-content/uploads/2026/03/Islander-e1774024461202.jpg
END:VEVENT
BEGIN:VEVENT
DTSTART;TZID=America/New_York:20260423T193000
DTEND;TZID=America/New_York:20260423T193000
DTSTAMP:20260424T194943
CREATED:20260406T163611Z
LAST-MODIFIED:20260406T163611Z
UID:30273-1776972600-1776972600@news.buffaloplace.com
SUMMARY:Jack Grady
DESCRIPTION:Jack Grady is a comedy magician whose chaotic\, unpredictable style has earned him a cult following and millions of fans across the internet. One of the most unique voices in Magic today\, Jack has a rare instinct for virality at its core\, including delivering the shortest audition in America’s Got Talent history and his documentary will be premiering at the 2026 New York Film Festival. \nHe is also the first magician to ever step into a professional boxing match\, and currently has a documentary on the way that further captures the madness behind his career. Blending sharp comedy with impossible magic\, Jack’s performances are fast paced\, absurd\, and completely original. Simply put\, Jack Grady is one of the weirdest and most hilarious acts you will ever experience\, delivering a show that is as unforgettable as it is unpredictable. \nJack Grady is coming to Helium Comedy Club on Thursday\, April 23rd! Click here to purchase tickets.
URL:https://news.buffaloplace.com/event/jack-grady/
LOCATION:Helium Comedy Club\, 30 Mississippi Street\, Buffalo\, 14203\, United States
ATTACH;FMTTYPE=image/png:https://news.buffaloplace.com/wp-content/uploads/2026/04/data-1.png
END:VEVENT
BEGIN:VEVENT
DTSTART;TZID=America/New_York:20260423T193000
DTEND;TZID=America/New_York:20260423T193000
DTSTAMP:20260424T194943
CREATED:20260406T164138Z
LAST-MODIFIED:20260406T164214Z
UID:30283-1776972600-1776972600@news.buffaloplace.com
SUMMARY:Ghost Brothers of Darkland County
DESCRIPTION:A bluesy rock score by legend John Mellencamp and a claustrophobic\, refractured parable from the master of thriller Stephen King combine to create the spooky\, cautionary tale of Ghost Brothers of Darkland County. In an eerie cabin in the woods\, a young couple come across its caretaker\, the Troubador\, who reveals to them an almost Biblically violent story that took place in that very house\, about a set of brothers who are in love with the same woman and the ensuing rivalry that sparks between them. The young couple hearing this tale realize that this cabin’s past is certainly like their present. When the young man’s brother shows up to stake a claim for the woman he loves\, will they repeat the sins of the past – especially if it means staying alive? \nRoad Less Traveled Productions will be the first company to produce this version of Ghost Brothers of Darkland County\, on stage from Friday\, April 17th through Sunday\, May 17th. Click here for more information and to purchase tickets.
URL:https://news.buffaloplace.com/event/ghost-brothers-of-darkland-county-4/
LOCATION:Road Less Traveled Theater\, 456 Main Street\, Buffalo\, NY\, 14202
ATTACH;FMTTYPE=image/jpeg:https://news.buffaloplace.com/wp-content/uploads/2026/04/ClientFile560363.jpg
END:VEVENT
BEGIN:VEVENT
DTSTART;TZID=America/New_York:20260423T200000
DTEND;TZID=America/New_York:20260423T200000
DTSTAMP:20260424T194943
CREATED:20260414T150655Z
LAST-MODIFIED:20260414T150655Z
UID:30374-1776974400-1776974400@news.buffaloplace.com
SUMMARY:Vincent Antone w/ Father Figure & DJ Rhythmic Noise
DESCRIPTION:Vincent Antone is an Austin-based producer and multi-instrumentalist whose groove-driven sound blends funk\, hip hop\, soul\, and bass music into a style that feels both nostalgic and modern. With a strong musical background shaping his songwriting and performances\, his music combines live instrumentation with bass-heavy electronic production\, perfect for for listening or dancing. He has performed at major festivals nationwide and shared stages with well-known artists\, building a reputation for energetic live shows and musicianship-focused electronic music. \nRhythmic Noise is a Buffalo-based DJ who emerged from the city’s 2020 pop-up and drive-in music scene\, bringing a dynamic blend of funk-bass\, hip-hop\, electro-soul\, and disco to the dance floor. Influenced by artists like Manic Focus and Pretty Lights\, his sets are known for their fluidity and immersive energy. With performances at local venues and community events across the Buffalo area\, he continues to build a growing following through thoughtfully curated sets that mix fresh sounds with classic grooves. \nSee Vincent Antone with Father Figure and DJ Rhythmic Noise at Buffalo Iron Works on Thursday\, April 23rd! Click here to purchase tickets.
URL:https://news.buffaloplace.com/event/vincent-antone-w-father-figure-dj-rhythmic-noise/
LOCATION:Buffalo Iron Works\, 49 Illinois Street\, Buffalo\, NY\, 14203\, United States
ATTACH;FMTTYPE=image/jpeg:https://news.buffaloplace.com/wp-content/uploads/2026/04/668221643_1261101872884140_1843873496767684940_n-e1776179198791.jpg
END:VEVENT
END:VCALENDAR