BEGIN:VCALENDAR
VERSION:2.0
PRODID:-//Buffalo Place - ECPv6.15.20//NONSGML v1.0//EN
CALSCALE:GREGORIAN
METHOD:PUBLISH
X-ORIGINAL-URL:https://news.buffaloplace.com
X-WR-CALDESC:Events for Buffalo Place
REFRESH-INTERVAL;VALUE=DURATION:PT1H
X-Robots-Tag:noindex
X-PUBLISHED-TTL:PT1H
BEGIN:VTIMEZONE
TZID:America/New_York
BEGIN:DAYLIGHT
TZOFFSETFROM:-0500
TZOFFSETTO:-0400
TZNAME:EDT
DTSTART:20250309T070000
END:DAYLIGHT
BEGIN:STANDARD
TZOFFSETFROM:-0400
TZOFFSETTO:-0500
TZNAME:EST
DTSTART:20251102T060000
END:STANDARD
BEGIN:DAYLIGHT
TZOFFSETFROM:-0500
TZOFFSETTO:-0400
TZNAME:EDT
DTSTART:20260308T070000
END:DAYLIGHT
BEGIN:STANDARD
TZOFFSETFROM:-0400
TZOFFSETTO:-0500
TZNAME:EST
DTSTART:20261101T060000
END:STANDARD
BEGIN:DAYLIGHT
TZOFFSETFROM:-0500
TZOFFSETTO:-0400
TZNAME:EDT
DTSTART:20270314T070000
END:DAYLIGHT
BEGIN:STANDARD
TZOFFSETFROM:-0400
TZOFFSETTO:-0500
TZNAME:EST
DTSTART:20271107T060000
END:STANDARD
END:VTIMEZONE
BEGIN:VEVENT
DTSTART;TZID=America/New_York:20260426T140000
DTEND;TZID=America/New_York:20260426T140000
DTSTAMP:20260424T183318
CREATED:20260320T165801Z
LAST-MODIFIED:20260320T165801Z
UID:29925-1777212000-1777212000@news.buffaloplace.com
SUMMARY:Islander
DESCRIPTION:Irish Classical Theatre welcomes to their stage\, Islander\, from April 10th through April 26th! This spellbinding new folk-musical is about community and connection\, myth and reality for audiences young and old. There is a girl. She stares out to sea and dreams of a new life beyond her lonely island. Myth and reality collide when the tide washes a mysterious stranger onto her beach. Islander is a breathtaking\, folk-infused musical that transports audiences to a remote Scottish island where tradition and modernity collide. Featuring a stunning\, looping vocal score and performed entirely by two actors\, Islander weaves a mesmerizing tale of myth\, community\, and self-discovery. With its haunting melodies and immersive storytelling\, this critically acclaimed production is a must-see for lovers of innovative theater and enchanting folklore. Performances take place on Thursday and Friday at 7:30pm\, Saturday at 2pm and 7:30pm\, and Sunday at 2pm. Click here for tickets and details. \n\nConceived by Amy Draper\, Book by Stewart Melton\, Music & Lyrics by Finn Anderson\n \nAdditional Programming: \n\n\n\nOpen Rehearsal (for Subscribers Only): Wednesday\, April 1st at 6:30pm \nCommunity Matinee Preview ($12/Ticket): Thursday\, April 9th at 10am \nOpening Night Reception: Friday\, April 10th  at 7:30pm \nPay-What-You-Will Performances*:\nSaturday\, April 11th at 2pm and 7:30pm; Saturday\, April 18th at 7:30pm; Saturday\, April 25th at 7:30pm\n*Purchase in-person at the Box Office on the day of the performance. Seating subject to availability. \nSpeaker Series: Sunday\, April 12\, 2026 at 1:30 PM \nTalk Back Thursdays: Engage with the Creators! After every Thursday performance\, stay for a free Talk Back where members of the creative team discuss their roles and answer your questions about their creative journey.\nThursday\, April 16th at 7:30pm\nThursday\, April 23rd at 7:30pm
URL:https://news.buffaloplace.com/event/islander-15/
LOCATION:Irish Classical Theatre Company\, 625 Main Street\, Buffalo\, NY\, 14203\, United States
ATTACH;FMTTYPE=image/jpeg:https://news.buffaloplace.com/wp-content/uploads/2026/03/Islander-e1774024461202.jpg
END:VEVENT
BEGIN:VEVENT
DTSTART;TZID=America/New_York:20260426T140000
DTEND;TZID=America/New_York:20260426T140000
DTSTAMP:20260424T183318
CREATED:20260406T164623Z
LAST-MODIFIED:20260406T164623Z
UID:30291-1777212000-1777212000@news.buffaloplace.com
SUMMARY:Ghost Brothers of Darkland County
DESCRIPTION:A bluesy rock score by legend John Mellencamp and a claustrophobic\, refractured parable from the master of thriller Stephen King combine to create the spooky\, cautionary tale of Ghost Brothers of Darkland County. In an eerie cabin in the woods\, a young couple come across its caretaker\, the Troubador\, who reveals to them an almost Biblically violent story that took place in that very house\, about a set of brothers who are in love with the same woman and the ensuing rivalry that sparks between them. The young couple hearing this tale realize that this cabin’s past is certainly like their present. When the young man’s brother shows up to stake a claim for the woman he loves\, will they repeat the sins of the past – especially if it means staying alive? \nRoad Less Traveled Productions will be the first company to produce this version of Ghost Brothers of Darkland County\, on stage from Friday\, April 17th through Sunday\, May 17th. Click here for more information and to purchase tickets.
URL:https://news.buffaloplace.com/event/ghost-brothers-of-darkland-county-7/
LOCATION:Road Less Traveled Theater\, 456 Main Street\, Buffalo\, NY\, 14202
ATTACH;FMTTYPE=image/jpeg:https://news.buffaloplace.com/wp-content/uploads/2026/04/ClientFile560363.jpg
END:VEVENT
BEGIN:VEVENT
DTSTART;TZID=America/New_York:20260426T140000
DTEND;TZID=America/New_York:20260426T140000
DTSTAMP:20260424T183318
CREATED:20260413T191659Z
LAST-MODIFIED:20260413T191659Z
UID:30357-1777212000-1777212000@news.buffaloplace.com
SUMMARY:Elton John & Billy Joel Tribute Brunch LIVE Acoustic with Mike Mainier
DESCRIPTION:The Brunch Series continues at Hofbräuhaus with a piano-powered morning of legendary music. Michael Mainier from The Funkensteins brings the unforgettable hits of Billy Joel and Elton John to the stage on Sunday\, April 26th! Expect a high-energy performance featuring the songs everyone knows and loves – from sing-along classics to iconic piano anthems. \nPair the music with brunch favorites\, mimosas\, and fresh pours of Hofbräuhaus bier while the beer hall fills with the soundtrack of two of the greatest songwriters of all time. Click here for more information.
URL:https://news.buffaloplace.com/event/elton-john-billy-joel-tribute-brunch-live-acoustic-with-mike-mainier/
LOCATION:Hofbräuhaus\, 190 Scot Street\, Buffalo\, NY\, 14204\, United States
ATTACH;FMTTYPE=image/jpeg:https://news.buffaloplace.com/wp-content/uploads/2026/04/652451502_1576085717853187_1872846377092113670_n-e1776107803710.jpg
END:VEVENT
BEGIN:VEVENT
DTSTART;TZID=America/New_York:20260426T150000
DTEND;TZID=America/New_York:20260426T150000
DTSTAMP:20260424T183318
CREATED:20260414T160457Z
LAST-MODIFIED:20260414T160457Z
UID:30383-1777215600-1777215600@news.buffaloplace.com
SUMMARY:Terror Tease Cabaret
DESCRIPTION:The Terror Tease Cabaret\, presented by Buffalo Events Marketplace\, returns to Buffalo Iron Works on Sunday\, April 26th! \nClick here to purchase tickets.
URL:https://news.buffaloplace.com/event/terror-tease-cabaret-2/
LOCATION:Buffalo Iron Works\, 49 Illinois Street\, Buffalo\, NY\, 14203\, United States
ATTACH;FMTTYPE=image/jpeg:https://news.buffaloplace.com/wp-content/uploads/2026/04/2026-04-26-e1776182662227.jpg
END:VEVENT
BEGIN:VEVENT
DTSTART;TZID=America/New_York:20260426T190000
DTEND;TZID=America/New_York:20260426T190000
DTSTAMP:20260424T183318
CREATED:20260413T192415Z
LAST-MODIFIED:20260413T192415Z
UID:30360-1777230000-1777230000@news.buffaloplace.com
SUMMARY:Giovannie and the Hired Guns & The LACS
DESCRIPTION:Funtime Presents Giovannie and the Hired Guns & The LACS at Town Ballroom on Sunday\, April 26th! \nClick here to purchase tickets.
URL:https://news.buffaloplace.com/event/giovannie-and-the-hired-guns-the-lacs-2/
LOCATION:Town Ballroom\, 681 Main Street\, Buffalo\, NY\, 14203\, United States
ATTACH;FMTTYPE=image/jpeg:https://news.buffaloplace.com/wp-content/uploads/2026/04/giovannie-and-the-hired-guns-the-lacs.jfif_-e1776108244704.jpeg
END:VEVENT
BEGIN:VEVENT
DTSTART;TZID=America/New_York:20260426T190000
DTEND;TZID=America/New_York:20260426T190000
DTSTAMP:20260424T183318
CREATED:20260413T193042Z
LAST-MODIFIED:20260413T193042Z
UID:30363-1777230000-1777230000@news.buffaloplace.com
SUMMARY:Juvenile
DESCRIPTION:Over nearly three decades\, the multi platinum record-breaking New Orleans icon\, Juvenile served up a string of classic albums\, influenced two generations of stars\, and pioneered a sound rooted in Louisiana bounce\, yet carried by worldwide rap appeal and ambition. \nJuvenile takes the stage at Electric City on Sunday\, April 26th! Click here to purchase tickets. \n 
URL:https://news.buffaloplace.com/event/juvenile/
LOCATION:Electric City\, 433 Pearl Street\, Buffalo\, NY\, 14202\, United States
ATTACH;FMTTYPE=image/jpeg:https://news.buffaloplace.com/wp-content/uploads/2026/04/2852852648514643557-e1776108439494.jpeg
END:VEVENT
BEGIN:VEVENT
DTSTART;TZID=America/New_York:20260426T190000
DTEND;TZID=America/New_York:20260426T190000
DTSTAMP:20260424T183318
CREATED:20260414T171919Z
LAST-MODIFIED:20260414T171919Z
UID:30387-1777230000-1777230000@news.buffaloplace.com
SUMMARY:Justin Whitehead
DESCRIPTION:Justin Whitehead sprung himself into stardom by making videos about “My 600 Pound Life.” Justin is quickly making his way up the popularity charts with his clever punchlines and down-to-earth personality. \nJustin Whitehead takes the stage at Helium Comedy Club on Sunday\, April 26th! Click here to purchase tickets.
URL:https://news.buffaloplace.com/event/justin-whitehead-3/
LOCATION:Helium Comedy Club\, 30 Mississippi Street\, Buffalo\, 14203\, United States
ATTACH;FMTTYPE=image/png:https://news.buffaloplace.com/wp-content/uploads/2026/04/data-3.png
END:VEVENT
BEGIN:VEVENT
DTSTART;TZID=America/New_York:20260426T193000
DTEND;TZID=America/New_York:20260426T193000
DTSTAMP:20260424T183318
CREATED:20260211T172048Z
LAST-MODIFIED:20260421T134250Z
UID:29247-1777231800-1777231800@news.buffaloplace.com
SUMMARY:Bat Out Of Hell - The Musical
DESCRIPTION:Get ready for Bat Out Of Hell – The Musical\, the thrilling spectacle where the timeless music of Jim Steinman and Meat Loaf reigns supreme! Bat Out Of Hell – The Musical will be at Shea’s Buffalo Theatre for one night only on Sunday\, April 26th at 7:30pm.Tickets are available through the Shea’s Box Office at 650 Main Street or online at www.sheas.org/performances/bat-out-of-hell-the-musical. \nFeaturing some of the most iconic rock songs ever recorded\, Bat Out Of Hell – The Musical boasts an epic world class cast of singers\, dancers\, actors\, accompanied by a dynamic eight-piece rock band. This reimagined award-winning show promises to be a thrilling experience. Bat Out Of Hell became one of the best-selling albums in history\, selling over 68 million copies worldwide. 16 years after the release of the original album\, Steinman scored again with Bat Out of Hell II: Back into Hell\, which contained the massive hit I Would Do Anything for Love (But I Won’t Do That). For the stage musical\, the legendary and award-winning Jim Steinman incorporated iconic songs from the Bat Out of Hell albums\, including You Took the Words Right Out of My Mouth\, Bat Out of Hell\, I Would Do Anything for Love (But I Won’t Do That)\, It’s All Coming Back to Me\, and Two Out Of Three Ain’t Bad\, as well as the previously unreleased song What Part of My Body Hurts the Most.
URL:https://news.buffaloplace.com/event/bat-out-of-hell-the-musical/
LOCATION:Shea’s Buffalo Theatre\, 646 Main Street\, Buffalo\, 14202\, United States
ATTACH;FMTTYPE=image/jpeg:https://news.buffaloplace.com/wp-content/uploads/2026/02/BatoutofHell-e1770830614384.jpg
END:VEVENT
END:VCALENDAR